BEGIN:VCALENDAR
VERSION:2.0
PRODID:-//Grace Baptist Church - ECPv6.15.16//NONSGML v1.0//EN
CALSCALE:GREGORIAN
METHOD:PUBLISH
X-WR-CALNAME:Grace Baptist Church
X-ORIGINAL-URL:https://grace4u.net
X-WR-CALDESC:Events for Grace Baptist Church
REFRESH-INTERVAL;VALUE=DURATION:PT1H
X-Robots-Tag:noindex
X-PUBLISHED-TTL:PT1H
BEGIN:VTIMEZONE
TZID:America/Denver
BEGIN:DAYLIGHT
TZOFFSETFROM:-0700
TZOFFSETTO:-0600
TZNAME:MDT
DTSTART:20220313T090000
END:DAYLIGHT
BEGIN:STANDARD
TZOFFSETFROM:-0600
TZOFFSETTO:-0700
TZNAME:MST
DTSTART:20221106T080000
END:STANDARD
BEGIN:DAYLIGHT
TZOFFSETFROM:-0700
TZOFFSETTO:-0600
TZNAME:MDT
DTSTART:20230312T090000
END:DAYLIGHT
BEGIN:STANDARD
TZOFFSETFROM:-0600
TZOFFSETTO:-0700
TZNAME:MST
DTSTART:20231105T080000
END:STANDARD
BEGIN:DAYLIGHT
TZOFFSETFROM:-0700
TZOFFSETTO:-0600
TZNAME:MDT
DTSTART:20240310T090000
END:DAYLIGHT
BEGIN:STANDARD
TZOFFSETFROM:-0600
TZOFFSETTO:-0700
TZNAME:MST
DTSTART:20241103T080000
END:STANDARD
BEGIN:DAYLIGHT
TZOFFSETFROM:-0700
TZOFFSETTO:-0600
TZNAME:MDT
DTSTART:20250309T090000
END:DAYLIGHT
BEGIN:STANDARD
TZOFFSETFROM:-0600
TZOFFSETTO:-0700
TZNAME:MST
DTSTART:20251102T080000
END:STANDARD
END:VTIMEZONE
BEGIN:VEVENT
DTSTART;TZID=America/Denver:20241030T180000
DTEND;TZID=America/Denver:20241030T180000
DTSTAMP:20260419T222130
CREATED:20241023T171118Z
LAST-MODIFIED:20241023T171118Z
UID:2623-1730311200-1730311200@grace4u.net
SUMMARY:Spiritual Gifts Inventory Assessment #3
DESCRIPTION:Spiritual Gifts? Who\, Me!? \nYes\, you have them\, but which ones? \nYes\, God gave them to you\, but for what? \nYes\, God wants you to use them\, but how? \nOne of the best ways to learn more about the spiritual gifts that are in you is to participate in a brief spiritual gifts inventory survey. If you’ve never completed a spiritual gifts inventory\, or if has been a long time since you’ve participated in one\, now is a great time to do it together with your church family. This will take place at 6:00pm in the Narthex of the church.
URL:https://grace4u.net/event/spiritual-gifts-inventory-assessment-3/
LOCATION:Grace Baptist Church\, 3101 NE Vivion Rd\, Kansas City\, MO\, 64119\, United States
ORGANIZER;CN="Grace Baptist Church":MAILTO:office@grace4u.net
END:VEVENT
BEGIN:VEVENT
DTSTART;TZID=America/Denver:20241029T150000
DTEND;TZID=America/Denver:20241029T150000
DTSTAMP:20260419T222130
CREATED:20241023T170619Z
LAST-MODIFIED:20241023T170619Z
UID:2621-1730214000-1730214000@grace4u.net
SUMMARY:Spiritual Gifts Inventory Assessment #2
DESCRIPTION:Spiritual Gifts? Who\, Me!? \nYes\, you have them\, but which ones? \nYes\, God gave them to you\, but for what? \nYes\, God wants you to use them\, but how? \nOne of the best ways to learn more about the spiritual gifts that are in you is to participate in a brief spiritual gifts inventory survey. If you’ve never completed a spiritual gifts inventory\, or if has been a long time since you’ve participated in one\, now is a great time to do it together with your church family. This event will take place in the parables classroom #216
URL:https://grace4u.net/event/spiritual-gifts-inventory-assessment-2/
LOCATION:Grace Baptist Church\, 3101 NE Vivion Rd\, Kansas City\, MO\, 64119\, United States
ORGANIZER;CN="Grace Baptist Church":MAILTO:office@grace4u.net
END:VEVENT
BEGIN:VEVENT
DTSTART;TZID=America/Denver:20241027T120000
DTEND;TZID=America/Denver:20241027T120000
DTSTAMP:20260419T222130
CREATED:20241023T170324Z
LAST-MODIFIED:20241023T170324Z
UID:2618-1730030400-1730030400@grace4u.net
SUMMARY:Spiritual Gifts Inventory Assessment
DESCRIPTION:The first Spiritual Gifts Inventory Assessment following the morning worship service.  Refreshments will be served. \n  \nSpiritual Gifts? Who\, Me!? \nYes\, you have them\, but which ones? \nYes\, God gave them to you\, but for what? \nYes\, God wants you to use them\, but how? \nOne of the best ways to learn more about the spiritual gifts that are in you is to participate in a brief spiritual gifts inventory survey. If you’ve never completed a spiritual gifts inventory\, or if has been a long time since you’ve participated in one\, now is a great time to do it together with your church family. \nOur Pastor will facilitate a Spiritual Gifts Inventory Assessment at 3 separate times for you to choose for your convenience: \nSunday\, October 27th immediately after the 10:15 morning worship service in the Narthex with light refreshments being served \nTuesday\, October 29th at 3:00pm in The Parables classroom #216 \nWednesday\, October 30th at 6:00pm in the Narthex of the church
URL:https://grace4u.net/event/spiritual-gifts-inventory-assessment/
LOCATION:Grace Baptist Church\, 3101 NE Vivion Rd\, Kansas City\, MO\, 64119\, United States
ORGANIZER;CN="Grace Baptist Church":MAILTO:office@grace4u.net
END:VEVENT
BEGIN:VEVENT
DTSTART;TZID=America/Denver:20241027T080000
DTEND;TZID=America/Denver:20241027T170000
DTSTAMP:20260419T222130
CREATED:20241023T165757Z
LAST-MODIFIED:20241023T165757Z
UID:2616-1730016000-1730048400@grace4u.net
SUMMARY:Pastor Appreciation Sunday
DESCRIPTION:October is Pastor Appreciation month and we want to celebrate Pastor Shane with a card shower.  Members are encouraged to bring a card showing their appreciation and support to our new pastor.  A basket will be in the narthex Sunday morning before the worship service
URL:https://grace4u.net/event/pastor-appreciation-sunday/
LOCATION:Grace Baptist Church\, 3101 NE Vivion Rd\, Kansas City\, MO\, 64119\, United States
ORGANIZER;CN="Grace Baptist Church":MAILTO:office@grace4u.net
END:VEVENT
BEGIN:VEVENT
DTSTART;TZID=America/Denver:20241024T173000
DTEND;TZID=America/Denver:20241024T173000
DTSTAMP:20260419T222130
CREATED:20241023T165516Z
LAST-MODIFIED:20241023T165516Z
UID:2614-1729791000-1729791000@grace4u.net
SUMMARY:Fall Festival
DESCRIPTION:Fall Festival for Day Care and Grace Baptist Church beginning at 5:30pm. There will be games for the children and adults.  Hot dogs\, drinks and smores will be provided.
URL:https://grace4u.net/event/fall-festival/
LOCATION:Grace Baptist Church\, 3101 NE Vivion Rd\, Kansas City\, MO\, 64119\, United States
END:VEVENT
BEGIN:VEVENT
DTSTART;TZID=America/Denver:20240828T110000
DTEND;TZID=America/Denver:20240828T110000
DTSTAMP:20260419T222130
CREATED:20240814T001715Z
LAST-MODIFIED:20240814T001715Z
UID:2589-1724842800-1724842800@grace4u.net
SUMMARY:Caring Committee Meeting
DESCRIPTION:
URL:https://grace4u.net/event/caring-committee-meeting/
LOCATION:Grace Baptist Church\, 3101 NE Vivion Rd\, Kansas City\, MO\, 64119\, United States
ORGANIZER;CN="Grace Baptist Church":MAILTO:office@grace4u.net
END:VEVENT
BEGIN:VEVENT
DTSTART;TZID=America/Denver:20240821T180000
DTEND;TZID=America/Denver:20240821T180000
DTSTAMP:20260419T222130
CREATED:20240814T002114Z
LAST-MODIFIED:20240814T002341Z
UID:2592-1724263200-1724263200@grace4u.net
SUMMARY:Hawaiian Luau
DESCRIPTION:We welcome you to our Hawaiian Luau hospitality dinner! Please call the church office to reserve your spot – $5.00 donation. \nAdditionally\, there will be 7:00 pm Choir practice – Anyone who would like to sing is welcome to participate.
URL:https://grace4u.net/event/hospitality-dinner-hawaiian-luau/
LOCATION:Grace Baptist Church\, 3101 NE Vivion Rd\, Kansas City\, MO\, 64119\, United States
ORGANIZER;CN="Grace Baptist Church":MAILTO:office@grace4u.net
END:VEVENT
BEGIN:VEVENT
DTSTART;TZID=America/Denver:20240726T183000
DTEND;TZID=America/Denver:20240728T183000
DTSTAMP:20260419T222130
CREATED:20240313T195346Z
LAST-MODIFIED:20240414T032758Z
UID:2520-1722018600-1722191400@grace4u.net
SUMMARY:American Baptist Women's Ministries\, Great Rivers Region Annual Conference
DESCRIPTION:Great Rivers Region Annual Conference in Springfield\, IL. Enjoy fellowship\, great speakers\, music\, and much more. \nClick here for the registration form and flyer. They are also available at the ABWM Bulletin board. \nFor more information\, please contact:  Lori.hill234@gmail.com
URL:https://grace4u.net/event/save-the-date-american-baptist-womens-ministries-great-rivers-region-annual-conference/
LOCATION:Hilton Garden Inn\, 3100 South Dirksen Pkwy\, Springfield\, IL\, 62703\, United States
ORGANIZER;CN="Grace Baptist Church":MAILTO:office@grace4u.net
END:VEVENT
BEGIN:VEVENT
DTSTART;TZID=America/Denver:20240716T090000
DTEND;TZID=America/Denver:20240721T090000
DTSTAMP:20260419T222130
CREATED:20240403T210147Z
LAST-MODIFIED:20240403T210147Z
UID:2528-1721120400-1721552400@grace4u.net
SUMMARY:American Baptist Women's Ministries National Conference
DESCRIPTION:ABWM National Conference in Salem\, Virginia.
URL:https://grace4u.net/event/american-baptist-womens-ministries-national-conference/
LOCATION:MO
ORGANIZER;CN="Grace Baptist Church":MAILTO:office@grace4u.net
END:VEVENT
BEGIN:VEVENT
DTSTART;TZID=America/Denver:20240506T180000
DTEND;TZID=America/Denver:20240506T180000
DTSTAMP:20260419T222130
CREATED:20240414T025044Z
LAST-MODIFIED:20240414T025342Z
UID:2532-1715018400-1715018400@grace4u.net
SUMMARY:ABWM Spring Fling (Be Strong\, Be Courageous)
DESCRIPTION:Tickets go on Sale 4/14/24.  $12.50 for adults\, $10 for ages 4-10\, and free for 3 and under.  The evening includes dinner and program with special guest speaker Anita Brooks\, from Cuba\, MO.  She is a business management consultant\, author and founder of P4 Power Coaching.
URL:https://grace4u.net/event/abwm-spring-fling-be-strong-be-courageous/
LOCATION:Grace Baptist Church\, 3101 NE Vivion Rd\, Kansas City\, MO\, 64119\, United States
ATTACH;FMTTYPE=image/png:https://grace4u.net/wp-content/uploads/2024/04/ABWMsc.png
ORGANIZER;CN="Grace Baptist Church":MAILTO:office@grace4u.net
END:VEVENT
BEGIN:VEVENT
DTSTART;TZID=America/Denver:20240502T090000
DTEND;TZID=America/Denver:20240502T090000
DTSTAMP:20260419T222130
CREATED:20240423T224543Z
LAST-MODIFIED:20240424T054913Z
UID:2546-1714640400-1714640400@grace4u.net
SUMMARY:National Day of Prayer
DESCRIPTION:We welcome you to attend our National Day of Prayer! It will be a time of prayer for our nation\, our world\, and many other critical areas. \nContinental breakfast will be served.
URL:https://grace4u.net/event/national-day-of-prayer/
LOCATION:Grace Baptist Church\, 3101 NE Vivion Rd\, Kansas City\, MO\, 64119\, United States
ORGANIZER;CN="Grace Baptist Church":MAILTO:office@grace4u.net
END:VEVENT
BEGIN:VEVENT
DTSTART;TZID=America/Denver:20240321T183000
DTEND;TZID=America/Denver:20240321T183000
DTSTAMP:20260419T222130
CREATED:20240313T200653Z
LAST-MODIFIED:20240318T050401Z
UID:2522-1711045800-1711045800@grace4u.net
SUMMARY:Women's History Month Program
DESCRIPTION:In celebration of Women’s History Month\, the women’s ministries of Grace Baptist Church invites you to a program on Thursday the 21st beginning at 6:30pm. Join us as we celebrate and share stories of 6 amazing women.  There will be refreshments and door prizes!
URL:https://grace4u.net/event/womens-history-month-program/
LOCATION:Grace Baptist Church\, 3101 NE Vivion Rd\, Kansas City\, MO\, 64119\, United States
ORGANIZER;CN="Grace Baptist Church":MAILTO:office@grace4u.net
END:VEVENT
BEGIN:VEVENT
DTSTART;TZID=America/Denver:20230510T180000
DTEND;TZID=America/Denver:20230510T200000
DTSTAMP:20260419T222131
CREATED:20230417T234901Z
LAST-MODIFIED:20230418T000626Z
UID:2484-1683741600-1683748800@grace4u.net
SUMMARY:Spring Fling
DESCRIPTION:Blooming for Jesus is the theme for this evening hosted by American Baptist Women at Grace Baptist Church.  Adults $12.00\, Children ages 4-12 $10.00.  Tickets available now.  Join us for Dinner\, program\, and music.  This is a wonderful time to gather your girls and have an evening out and help a great cause. \nProceeds from this event will benefit American Baptist Women’s Ministries Great Rivers Region’s Special Project for 2022-2023 for Congo.  The goal is $15\,000 to provide medical supplies and train nurses for the 13 hospitals that are part of the Congolese Baptist Community. \nFor questions\, please contact Lori Hill 816-455-0364 or email office@grace4u.net
URL:https://grace4u.net/event/spring-fling/
LOCATION:Grace Baptist Church\, 3101 NE Vivion Rd\, Kansas City\, MO\, 64119\, United States
ATTACH;FMTTYPE=image/jpeg:https://grace4u.net/wp-content/uploads/2023/04/Spring-Fling-rotated.jpg
ORGANIZER;CN="Grace Baptist Church":MAILTO:office@grace4u.net
END:VEVENT
BEGIN:VEVENT
DTSTART;TZID=America/Denver:20230504T183000
DTEND;TZID=America/Denver:20230504T193000
DTSTAMP:20260419T222131
CREATED:20230419T025944Z
LAST-MODIFIED:20230419T030804Z
UID:2505-1683225000-1683228600@grace4u.net
SUMMARY:National Day of Prayer - Thursday May 4th at 6:30PM
DESCRIPTION:PRAYING ON THE NATIONAL DAY OF PRAYER \nWe PRAY FOR THE PEOPLE who live\, worship\, learn\, work\, serve\, sacrifice\, create\, and consume in every area of life in our community and country.  We commit to pray\, love\, and share the testimony of our hope; the gospel of Jesus\, as we pray for all people to believe and follow Jesus as Lord. \nJoin us for this National event where we will all pray for \nFamily\, Church\, Business & Workplace\, Education\, Government\, Arts\, Media & Entertainment
URL:https://grace4u.net/event/national-day-of-prayer-thursday-may-4th-at-630pm/
LOCATION:Grace Baptist Church\, 3101 NE Vivion Rd\, Kansas City\, MO\, 64119\, United States
ATTACH;FMTTYPE=image/jpeg:https://grace4u.net/wp-content/uploads/2023/04/National-Day-of-Prayer.jpg
ORGANIZER;CN="Grace Baptist Church":MAILTO:office@grace4u.net
END:VEVENT
BEGIN:VEVENT
DTSTART;TZID=America/Denver:20230415T093000
DTEND;TZID=America/Denver:20230415T113000
DTSTAMP:20260419T222131
CREATED:20230404T001044Z
LAST-MODIFIED:20230404T001044Z
UID:2476-1681551000-1681558200@grace4u.net
SUMMARY:Breakfast and Book Study Saturday April 15\,  9:30am
DESCRIPTION:
URL:https://grace4u.net/event/breakfast-and-book-study-saturday-april-15-930am/
LOCATION:MO
ATTACH;FMTTYPE=application/pdf:https://grace4u.net/wp-content/uploads/2023/04/bb-BOOKSTUDY-1.pdf
ORGANIZER;CN="Grace Baptist Church":MAILTO:office@grace4u.net
END:VEVENT
BEGIN:VEVENT
DTSTART;TZID=America/Denver:20230411T063000
DTEND;TZID=America/Denver:20230411T193000
DTSTAMP:20260419T222131
CREATED:20230404T000619Z
LAST-MODIFIED:20230404T000619Z
UID:2464-1681194600-1681241400@grace4u.net
SUMMARY:Ladies Night In - Tues 4/11 6:30pm
DESCRIPTION:We are having a fun evening of girl time – talk – games – snacks – making new friends.  If you are new to the area\, lived here awhile and looking for other female connections\, or just want a little time out with the girls\, this is the event for you.  It’s free but bring your purse this time – we are doing something that is sure to bring giggles and conversation.  Bring a friend with you and your name will be placed in a drawing for a prize.
URL:https://grace4u.net/event/ladies-night-in-tues-4-11-630pm/
LOCATION:MO
CATEGORIES:Event
ORGANIZER;CN="Grace Baptist Church":MAILTO:office@grace4u.net
END:VEVENT
BEGIN:VEVENT
DTSTART;TZID=America/Denver:20230406T190000
DTEND;TZID=America/Denver:20230406T200000
DTSTAMP:20260419T222131
CREATED:20230403T234036Z
LAST-MODIFIED:20230403T234036Z
UID:2461-1680807600-1680811200@grace4u.net
SUMMARY:Maundy Thursday Service
DESCRIPTION:Grace Baptist Church will host a Maundy Thursday service April 6th at 7:00pm.  Everyone is welcome!
URL:https://grace4u.net/event/maundy-thursday-service/
LOCATION:Grace Baptist Church\, 3101 NE Vivion Rd\, Kansas City\, MO\, 64119\, United States
ATTACH;FMTTYPE=image/jpeg:https://grace4u.net/wp-content/uploads/2022/09/john-price-RAZQiZOX3mU-unsplash-1.jpg
ORGANIZER;CN="Grace Baptist Church":MAILTO:office@grace4u.net
END:VEVENT
END:VCALENDAR